BEGIN:VCALENDAR
VERSION:2.0
PRODID:-//81.88.36.52//NONSGML kigkonsult.se iCalcreator 2.20//
CALSCALE:GREGORIAN
METHOD:PUBLISH
X-WR-TIMEZONE:Europe/Vienna
BEGIN:VEVENT
UID:event1023@Online-Magazin SCHNAPPEN.AT: die interessanten Seiten des Leb
 ens
DTSTAMP:20260425T121805Z
CATEGORIES:Veranstaltungen
DESCRIPTION:Musical Tonight\, ein Best of der größten Musicalhits\nKategori
 e: Veranstaltungen\nICS-Link: https://www.schnappen.at/oesterreich/index.p
 hp?option=com_jem&view=event&id=1023:musical\n
DTSTART;TZID=Europe/Vienna:20270416T200000
DTEND;TZID=Europe/Vienna:20270416T200000
LOCATION:Wiener Stadthalle\,Dr. Roland Rainer Platz 1\,1150 Wien
SUMMARY:Musical Tonight\, ein Best of der größten Musicalhits
URL:https://www.schnappen.at/oesterreich/index.php?option=com_jem&view=even
 t&id=1023:musical
END:VEVENT
END:VCALENDAR