BEGIN:VCALENDAR
VERSION:2.0
PRODID:-//81.88.36.52//NONSGML kigkonsult.se iCalcreator 2.20//
CALSCALE:GREGORIAN
METHOD:PUBLISH
X-WR-TIMEZONE:Europe/Vienna
BEGIN:VEVENT
UID:event1060@Online-Magazin SCHNAPPEN.AT: die interessanten Seiten des Leb
 ens
DTSTAMP:20260425T121956Z
CATEGORIES:Veranstaltungen
DESCRIPTION:voXXclub in Österreich\, Ungarn\, Deutschland\nKategorie: Veran
 staltungen\nICS-Link: https://www.schnappen.at/oesterreich/index.php?optio
 n=com_jem&view=event&id=1060:voxxclub\n
DTSTART;TZID=Europe/Vienna:20261219T200000
DTEND;TZID=Europe/Vienna:20261219T200000
LOCATION:Wiener Stadthalle\,Dr. Roland Rainer Platz 1\,1150 Wien
SUMMARY:voXXclub in Österreich\, Ungarn\, Deutschland
URL:https://www.schnappen.at/oesterreich/index.php?option=com_jem&view=even
 t&id=1060:voxxclub
END:VEVENT
END:VCALENDAR