BEGIN:VCALENDAR
VERSION:2.0
PRODID:-//81.88.36.52//NONSGML kigkonsult.se iCalcreator 2.20//
CALSCALE:GREGORIAN
METHOD:PUBLISH
X-WR-TIMEZONE:Europe/Vienna
BEGIN:VEVENT
UID:event1613@Online-Magazin SCHNAPPEN.AT: die interessanten Seiten des Leb
 ens
DTSTAMP:20260425T165213Z
CATEGORIES:Termine noch offen
DESCRIPTION:Ball 'Casablanca' des Vereines 'Auf Augenhöhe'\nKategorie: Term
 ine noch offen\nICS-Link: https://www.schnappen.at/oesterreich/index.php?o
 ption=com_jem&view=event&id=1613:ball-verein-aufaugenhoehe\n
DTSTART;VALUE=DATE:20230216
DTEND;VALUE=DATE:20230217
LOCATION:Sofiensäle Wien\,Marxergasse 17\,1030 Wien
SUMMARY:Ball 'Casablanca' des Vereines 'Auf Augenhöhe'
URL:https://www.schnappen.at/oesterreich/index.php?option=com_jem&view=even
 t&id=1613:ball-verein-aufaugenhoehe
END:VEVENT
END:VCALENDAR