BEGIN:VCALENDAR
VERSION:2.0
PRODID:-//81.88.36.52//NONSGML kigkonsult.se iCalcreator 2.20//
CALSCALE:GREGORIAN
METHOD:PUBLISH
X-WR-TIMEZONE:Europe/Vienna
BEGIN:VEVENT
UID:event1666@Online-Magazin SCHNAPPEN.AT: die interessanten Seiten des Leb
 ens
DTSTAMP:20260425T121914Z
CATEGORIES:Veranstaltungen
DESCRIPTION:Kabarettgipfel in Wien\nKategorie: Veranstaltungen\nICS-Link: h
 ttps://www.schnappen.at/oesterreich/index.php?option=com_jem&view=event&id
 =1666:kabarettgipfel\n
DTSTART;TZID=Europe/Vienna:20261116T200000
DTEND;TZID=Europe/Vienna:20261117T200000
LOCATION:Wiener Stadthalle\,Dr. Roland Rainer Platz 1\,1150 Wien
SUMMARY:Kabarettgipfel in Wien
URL:https://www.schnappen.at/oesterreich/index.php?option=com_jem&view=even
 t&id=1666:kabarettgipfel
END:VEVENT
END:VCALENDAR