BEGIN:VCALENDAR
VERSION:2.0
PRODID:-//81.88.36.52//NONSGML kigkonsult.se iCalcreator 2.20//
CALSCALE:GREGORIAN
METHOD:PUBLISH
X-WR-TIMEZONE:Europe/Vienna
BEGIN:VEVENT
UID:event1744@Online-Magazin SCHNAPPEN.AT: die interessanten Seiten des Leb
 ens
DTSTAMP:20260425T121813Z
CATEGORIES:Veranstaltungen
DESCRIPTION:Die Ärzte\nKategorie: Veranstaltungen\nICS-Link: https://www.sc
 hnappen.at/oesterreich/index.php?option=com_jem&view=event&id=1744:aerzte
 \n
DTSTART;VALUE=DATE:20270512
DTEND;VALUE=DATE:20270514
LOCATION:Wiener Stadthalle\,Dr. Roland Rainer Platz 1\,1150 Wien
SUMMARY:Die Ärzte
URL:https://www.schnappen.at/oesterreich/index.php?option=com_jem&view=even
 t&id=1744:aerzte
END:VEVENT
END:VCALENDAR