BEGIN:VCALENDAR
VERSION:2.0
PRODID:-//81.88.36.52//NONSGML kigkonsult.se iCalcreator 2.20//
CALSCALE:GREGORIAN
METHOD:PUBLISH
X-WR-TIMEZONE:Europe/Vienna
BEGIN:VEVENT
UID:event1815@Online-Magazin SCHNAPPEN.AT: die interessanten Seiten des Leb
 ens
DTSTAMP:20260424T234900Z
CATEGORIES:Termine noch offen
DESCRIPTION:Manhattan Transfer\nKategorie: Termine noch offen\nICS-Link: ht
 tps://www.schnappen.at/oesterreich/index.php?option=com_jem&view=event&id=
 1815:manhattan-transfer\n
DTSTART;VALUE=DATE:20200705
DTEND;VALUE=DATE:20200706
LOCATION:Staatsoper Wien\,Opernring 2\,1010 Wien
SUMMARY:Manhattan Transfer
URL:https://www.schnappen.at/oesterreich/index.php?option=com_jem&view=even
 t&id=1815:manhattan-transfer
END:VEVENT
END:VCALENDAR