BEGIN:VCALENDAR
VERSION:2.0
PRODID:-//81.88.36.52//NONSGML kigkonsult.se iCalcreator 2.20//
CALSCALE:GREGORIAN
METHOD:PUBLISH
X-WR-TIMEZONE:Europe/Vienna
BEGIN:VEVENT
UID:event2130@Online-Magazin SCHNAPPEN.AT: die interessanten Seiten des Leb
 ens
DTSTAMP:20260425T121818Z
CATEGORIES:Veranstaltungen
DESCRIPTION:Nico Santos - Arena Tour 2026\nKategorie: Veranstaltungen\nICS-
 Link: https://www.schnappen.at/oesterreich/index.php?option=com_jem&view=e
 vent&id=2130:nico-santos\n
DTSTART;VALUE=DATE:20261109
DTEND;VALUE=DATE:20261110
LOCATION:Wiener Stadthalle\,Dr. Roland Rainer Platz 1\,1150 Wien
SUMMARY:Nico Santos - Arena Tour 2026
URL:https://www.schnappen.at/oesterreich/index.php?option=com_jem&view=even
 t&id=2130:nico-santos
END:VEVENT
END:VCALENDAR