BEGIN:VCALENDAR
VERSION:2.0
PRODID:-//81.88.36.52//NONSGML kigkonsult.se iCalcreator 2.20//
CALSCALE:GREGORIAN
METHOD:PUBLISH
X-WR-TIMEZONE:Europe/Vienna
BEGIN:VEVENT
UID:event2143@Online-Magazin SCHNAPPEN.AT: die interessanten Seiten des Leb
 ens
DTSTAMP:20260425T121805Z
CATEGORIES:Veranstaltungen\, Wir berichten über...
DESCRIPTION:Zucchero in Österreich\nKategorie: Veranstaltungen\, Wir berich
 ten über...\nICS-Link: https://www.schnappen.at/oesterreich/index.php?opti
 on=com_jem&view=event&id=2143:zucchero\n
DTSTART;VALUE=DATE:20260611
DTEND;VALUE=DATE:20260612
LOCATION:Wiener Stadthalle\,Dr. Roland Rainer Platz 1\,1150 Wien
SUMMARY:Zucchero in Österreich
URL:https://www.schnappen.at/oesterreich/index.php?option=com_jem&view=even
 t&id=2143:zucchero
END:VEVENT
END:VCALENDAR