BEGIN:VCALENDAR
VERSION:2.0
PRODID:-//81.88.36.52//NONSGML kigkonsult.se iCalcreator 2.20//
CALSCALE:GREGORIAN
METHOD:PUBLISH
X-WR-TIMEZONE:Europe/Vienna
BEGIN:VEVENT
UID:event259@Online-Magazin SCHNAPPEN.AT: die interessanten Seiten des Lebe
 ns
DTSTAMP:20260425T121935Z
CATEGORIES:Veranstaltungen
DESCRIPTION:Schlagernacht des Jahres 2026\nKategorie: Veranstaltungen\nICS-
 Link: https://www.schnappen.at/oesterreich/index.php?option=com_jem&view=e
 vent&id=259:schlagernacht\n
DTSTART;VALUE=DATE:20261205
DTEND;VALUE=DATE:20261206
LOCATION:Wiener Stadthalle\,Dr. Roland Rainer Platz 1\,1150 Wien
SUMMARY:Schlagernacht des Jahres 2026
URL:https://www.schnappen.at/oesterreich/index.php?option=com_jem&view=even
 t&id=259:schlagernacht
END:VEVENT
END:VCALENDAR