BEGIN:VCALENDAR
VERSION:2.0
PRODID:-//81.88.36.52//NONSGML kigkonsult.se iCalcreator 2.20//
CALSCALE:GREGORIAN
METHOD:PUBLISH
X-WR-TIMEZONE:Europe/Vienna
BEGIN:VEVENT
UID:event260@Online-Magazin SCHNAPPEN.AT: die interessanten Seiten des Lebe
 ns
DTSTAMP:20260425T120932Z
CATEGORIES:Veranstaltungen
DESCRIPTION:Rea Garvey in Deutschland\nKategorie: Veranstaltungen\nICS-Link
 : https://www.schnappen.at/oesterreich/index.php?option=com_jem&view=event
 &id=260:garvey\n
DTSTART;VALUE=DATE:20261201
DTEND;VALUE=DATE:20261202
LOCATION:Wiener Stadthalle\,Dr. Roland Rainer Platz 1\,1150 Wien
SUMMARY:Rea Garvey in Deutschland
URL:https://www.schnappen.at/oesterreich/index.php?option=com_jem&view=even
 t&id=260:garvey
END:VEVENT
END:VCALENDAR