BEGIN:VCALENDAR
VERSION:2.0
PRODID:-//81.88.36.52//NONSGML kigkonsult.se iCalcreator 2.20//
CALSCALE:GREGORIAN
METHOD:PUBLISH
X-WR-TIMEZONE:Europe/Vienna
BEGIN:VEVENT
UID:event310@Online-Magazin SCHNAPPEN.AT: die interessanten Seiten des Lebe
 ns
DTSTAMP:20260425T121914Z
CATEGORIES:Messeveranstaltungen im Messekalender
DESCRIPTION:Esoterikmesse 'Spiritualität & Heilen'\nKategorie: Messeveranst
 altungen im Messekalender\nICS-Link: https://www.schnappen.at/oesterreich/
 index.php?option=com_jem&view=event&id=310:esoterik-messe\n
DTSTART;TZID=Europe/Vienna:20261107T110000
DTEND;TZID=Europe/Vienna:20261108T180000
LOCATION:Wiener Stadthalle\,Dr. Roland Rainer Platz 1\,1150 Wien
SUMMARY:Esoterikmesse 'Spiritualität & Heilen'
URL:https://www.schnappen.at/oesterreich/index.php?option=com_jem&view=even
 t&id=310:esoterik-messe
END:VEVENT
END:VCALENDAR