BEGIN:VCALENDAR
VERSION:2.0
PRODID:-//81.88.36.52//NONSGML kigkonsult.se iCalcreator 2.20//
CALSCALE:GREGORIAN
METHOD:PUBLISH
X-WR-TIMEZONE:Europe/Vienna
BEGIN:VEVENT
UID:event352@Online-Magazin SCHNAPPEN.AT: die interessanten Seiten des Lebe
 ns
DTSTAMP:20260425T121237Z
CATEGORIES:Veranstaltungen
DESCRIPTION:Andreas Gabalier\nKategorie: Veranstaltungen\nICS-Link: https:/
 /www.schnappen.at/oesterreich/index.php?option=com_jem&view=event&id=352:a
 ndreas-gabalier\n
DTSTART;VALUE=DATE:20260704
DTEND;VALUE=DATE:20260705
LOCATION:Wiener Stadthalle\,Dr. Roland Rainer Platz 1\,1150 Wien
SUMMARY:Andreas Gabalier
URL:https://www.schnappen.at/oesterreich/index.php?option=com_jem&view=even
 t&id=352:andreas-gabalier
END:VEVENT
END:VCALENDAR