BEGIN:VCALENDAR
VERSION:2.0
PRODID:-//81.88.36.52//NONSGML kigkonsult.se iCalcreator 2.20//
CALSCALE:GREGORIAN
METHOD:PUBLISH
X-WR-TIMEZONE:Europe/Vienna
BEGIN:VEVENT
UID:event577@Online-Magazin SCHNAPPEN.AT: die interessanten Seiten des Lebe
 ns
DTSTAMP:20260425T121644Z
CATEGORIES:Veranstaltungen
DESCRIPTION:The Dark Tenor \nKategorie: Veranstaltungen\nICS-Link: https://
 www.schnappen.at/oesterreich/index.php?option=com_jem&view=event&id=577:da
 rk-tenor\n
DTSTART;VALUE=DATE:20261118
DTEND;VALUE=DATE:20261119
LOCATION:Wiener Stadthalle\,Dr. Roland Rainer Platz 1\,1150 Wien
SUMMARY:The Dark Tenor 
URL:https://www.schnappen.at/oesterreich/index.php?option=com_jem&view=even
 t&id=577:dark-tenor
END:VEVENT
END:VCALENDAR