BEGIN:VCALENDAR
VERSION:2.0
PRODID:-//81.88.36.52//NONSGML kigkonsult.se iCalcreator 2.20//
CALSCALE:GREGORIAN
METHOD:PUBLISH
X-WR-TIMEZONE:Europe/Vienna
BEGIN:VEVENT
UID:event597@Online-Magazin SCHNAPPEN.AT: die interessanten Seiten des Lebe
 ns
DTSTAMP:20260425T121644Z
CATEGORIES:Veranstaltungen
DESCRIPTION:Howard Carpendale 2026\nKategorie: Veranstaltungen\nICS-Link: h
 ttps://www.schnappen.at/oesterreich/index.php?option=com_jem&view=event&id
 =597:carpendale\n
DTSTART;TZID=Europe/Vienna:20260720T193000
DTEND;TZID=Europe/Vienna:20260720T193000
LOCATION:Wiener Stadthalle\,Dr. Roland Rainer Platz 1\,1150 Wien
SUMMARY:Howard Carpendale 2026
URL:https://www.schnappen.at/oesterreich/index.php?option=com_jem&view=even
 t&id=597:carpendale
END:VEVENT
END:VCALENDAR