BEGIN:VCALENDAR
VERSION:2.0
PRODID:-//81.88.36.52//NONSGML kigkonsult.se iCalcreator 2.20//
CALSCALE:GREGORIAN
METHOD:PUBLISH
X-WR-TIMEZONE:Europe/Vienna
BEGIN:VEVENT
UID:event602@Online-Magazin SCHNAPPEN.AT: die interessanten Seiten des Lebe
 ns
DTSTAMP:20260425T121915Z
CATEGORIES:Veranstaltungen
DESCRIPTION:Holiday On Ice 'Cinema of dreams' in Wien\nKategorie: Veranstal
 tungen\nICS-Link: https://www.schnappen.at/oesterreich/index.php?option=co
 m_jem&view=event&id=602:holiday-on-ice\n
DTSTART;VALUE=DATE:20270121
DTEND;VALUE=DATE:20270201
LOCATION:Wiener Stadthalle\,Dr. Roland Rainer Platz 1\,1150 Wien
SUMMARY:Holiday On Ice 'Cinema of dreams' in Wien
URL:https://www.schnappen.at/oesterreich/index.php?option=com_jem&view=even
 t&id=602:holiday-on-ice
END:VEVENT
END:VCALENDAR