BEGIN:VCALENDAR
VERSION:2.0
PRODID:-//81.88.36.52//NONSGML kigkonsult.se iCalcreator 2.20//
CALSCALE:GREGORIAN
METHOD:PUBLISH
X-WR-TIMEZONE:Europe/Vienna
BEGIN:VEVENT
UID:event745@Online-Magazin SCHNAPPEN.AT: die interessanten Seiten des Lebe
 ns
DTSTAMP:20260425T121232Z
CATEGORIES:Veranstaltungen
DESCRIPTION:Gregorian: Master of Chant 2026 in Österreich und der Schweiz\n
 Kategorie: Veranstaltungen\nICS-Link: https://www.schnappen.at/oesterreich
 /index.php?option=com_jem&view=event&id=745:gregorian\n
DTSTART;TZID=Europe/Vienna:20261205T200000
DTEND;TZID=Europe/Vienna:20261205T200000
LOCATION:Wiener Stadthalle\,Dr. Roland Rainer Platz 1\,1150 Wien
SUMMARY:Gregorian: Master of Chant 2026 in Österreich und der Schweiz
URL:https://www.schnappen.at/oesterreich/index.php?option=com_jem&view=even
 t&id=745:gregorian
END:VEVENT
END:VCALENDAR