BEGIN:VCALENDAR
VERSION:2.0
PRODID:-//81.88.36.52//NONSGML kigkonsult.se iCalcreator 2.20//
CALSCALE:GREGORIAN
METHOD:PUBLISH
X-WR-TIMEZONE:Europe/Vienna
BEGIN:VEVENT
UID:event212@Online-Magazin SCHNAPPEN.AT: die interessanten Seiten des Lebe
 ns
DTSTAMP:20260425T105319Z
CATEGORIES:Termine noch offen
DESCRIPTION:Dirty Dancing \nKategorie: Termine noch offen\nICS-Link: https:
 //www.schnappen.at/oesterreich/index.php?option=com_jem&view=event&id=212:
 dirty-dancing\n
DTSTART;VALUE=DATE:20260417
DTEND;VALUE=DATE:20260418
LOCATION:Wiener Stadthalle\,Dr. Roland Rainer Platz 1\,1150 Wien\,Austria
SUMMARY:Dirty Dancing 
URL:https://www.schnappen.at/oesterreich/index.php?option=com_jem&view=even
 t&id=212:dirty-dancing
END:VEVENT
BEGIN:VEVENT
UID:event1480@Online-Magazin SCHNAPPEN.AT: die interessanten Seiten des Leb
 ens
DTSTAMP:20260425T105319Z
CATEGORIES:Termine noch offen
DESCRIPTION:Simply The Best\, die Tina Turner Story \nKategorie: Termine no
 ch offen\nICS-Link: https://www.schnappen.at/oesterreich/index.php?option=
 com_jem&view=event&id=1480:tina-turner\n
DTSTART;VALUE=DATE:20260416
DTEND;VALUE=DATE:20260417
LOCATION:Wiener Stadthalle\,Dr. Roland Rainer Platz 1\,1150 Wien\,Austria
SUMMARY:Simply The Best\, die Tina Turner Story 
URL:https://www.schnappen.at/oesterreich/index.php?option=com_jem&view=even
 t&id=1480:tina-turner
END:VEVENT
END:VCALENDAR