BEGIN:VCALENDAR
VERSION:2.0
PRODID:-//81.88.36.52//NONSGML kigkonsult.se iCalcreator 2.20//
CALSCALE:GREGORIAN
METHOD:PUBLISH
X-WR-TIMEZONE:Europe/Vienna
BEGIN:VEVENT
UID:event1134@Online-Magazin SCHNAPPEN.AT: die interessanten Seiten des Leb
 ens
DTSTAMP:20260424T094531Z
CATEGORIES:Veranstaltungen
DESCRIPTION:Jimmy Schlager\, der Weinivertler Musikkabarettist\nKategorie: 
 Veranstaltungen\nICS-Link: https://www.schnappen.at/oesterreich/index.php?
 option=com_jem&view=event&id=1134:jimmyschlager\n
DTSTART;TZID=Europe/Vienna:20260625T180000
DTEND;TZID=Europe/Vienna:20260625T180000
SUMMARY:Jimmy Schlager\, der Weinivertler Musikkabarettist
URL:https://www.schnappen.at/oesterreich/index.php?option=com_jem&view=even
 t&id=1134:jimmyschlager
END:VEVENT
END:VCALENDAR