BEGIN:VCALENDAR
VERSION:2.0
PRODID:-//81.88.36.52//NONSGML kigkonsult.se iCalcreator 2.20//
CALSCALE:GREGORIAN
METHOD:PUBLISH
X-WR-TIMEZONE:Europe/Vienna
BEGIN:VEVENT
UID:event164@Online-Magazin SCHNAPPEN.AT: die interessanten Seiten des Lebe
 ns
DTSTAMP:20260425T122145Z
CATEGORIES:Wir berichten über...\, Veranstaltungen
DESCRIPTION:Film Festival Wien\, das Filmfestival am Rathausplatz\nKategori
 e: Wir berichten über...\, Veranstaltungen\nICS-Link: https://www.schnappe
 n.at/oesterreich/index.php?option=com_jem&view=event&id=164:film-festival
 \n
DTSTART;VALUE=DATE:20260627
DTEND;VALUE=DATE:20260831
LOCATION:Wien Rathaus\,Rathausplatz 1\,1010 Wien
SUMMARY:Film Festival Wien\, das Filmfestival am Rathausplatz
URL:https://www.schnappen.at/oesterreich/index.php?option=com_jem&view=even
 t&id=164:film-festival
END:VEVENT
END:VCALENDAR