BEGIN:VCALENDAR
VERSION:2.0
PRODID:-//81.88.36.52//NONSGML kigkonsult.se iCalcreator 2.20//
CALSCALE:GREGORIAN
METHOD:PUBLISH
X-WR-TIMEZONE:Europe/Vienna
BEGIN:VEVENT
UID:event1735@Online-Magazin SCHNAPPEN.AT: die interessanten Seiten des Leb
 ens
DTSTAMP:20260425T121237Z
CATEGORIES:Termine noch offen
DESCRIPTION:Wiener Flüchtlingsball\nKategorie: Termine noch offen\nICS-Link
 : https://www.schnappen.at/oesterreich/index.php?option=com_jem&view=event
 &id=1735:fluechtlingsball\n
DTSTART;TZID=Europe/Vienna:20270417T200000
DTEND;TZID=Europe/Vienna:20270417T200000
LOCATION:Wien Rathaus\,Rathausplatz 1\,1010 Wien
SUMMARY:Wiener Flüchtlingsball
URL:https://www.schnappen.at/oesterreich/index.php?option=com_jem&view=even
 t&id=1735:fluechtlingsball
END:VEVENT
END:VCALENDAR