BEGIN:VCALENDAR
VERSION:2.0
PRODID:-//81.88.36.52//NONSGML kigkonsult.se iCalcreator 2.20//
CALSCALE:GREGORIAN
METHOD:PUBLISH
X-WR-TIMEZONE:Europe/Vienna
BEGIN:VEVENT
UID:event1736@Online-Magazin SCHNAPPEN.AT: die interessanten Seiten des Leb
 ens
DTSTAMP:20260425T121813Z
CATEGORIES:Termine noch offen
DESCRIPTION:Ball der Wiener Berufsfeuerwehr\nKategorie: Termine noch offen
 \nICS-Link: https://www.schnappen.at/oesterreich/index.php?option=com_jem&
 view=event&id=1736:feuerwehrball\n
DTSTART;VALUE=DATE:20270220
DTEND;VALUE=DATE:20270221
LOCATION:Wien Rathaus\,Rathausplatz 1\,1010 Wien
SUMMARY:Ball der Wiener Berufsfeuerwehr
URL:https://www.schnappen.at/oesterreich/index.php?option=com_jem&view=even
 t&id=1736:feuerwehrball
END:VEVENT
END:VCALENDAR