BEGIN:VCALENDAR
VERSION:2.0
PRODID:-//81.88.36.52//NONSGML kigkonsult.se iCalcreator 2.20//
CALSCALE:GREGORIAN
METHOD:PUBLISH
X-WR-TIMEZONE:Europe/Vienna
BEGIN:VEVENT
UID:event247@Online-Magazin SCHNAPPEN.AT: die interessanten Seiten des Lebe
 ns
DTSTAMP:20260425T121232Z
CATEGORIES:Ballkalender & Balltermine
DESCRIPTION:Blumenball 2027 der Stadt Wien\nKategorie: Ballkalender & Ballt
 ermine\nICS-Link: https://www.schnappen.at/oesterreich/index.php?option=co
 m_jem&view=event&id=247:blumenball\n
DTSTART;VALUE=DATE:20270115
DTEND;VALUE=DATE:20270116
LOCATION:Wien Rathaus\,Rathausplatz 1\,1010 Wien
SUMMARY:Blumenball 2027 der Stadt Wien
URL:https://www.schnappen.at/oesterreich/index.php?option=com_jem&view=even
 t&id=247:blumenball
END:VEVENT
END:VCALENDAR