BEGIN:VCALENDAR
VERSION:2.0
PRODID:-//81.88.36.52//NONSGML kigkonsult.se iCalcreator 2.20//
CALSCALE:GREGORIAN
METHOD:PUBLISH
X-WR-TIMEZONE:Europe/Vienna
BEGIN:VEVENT
UID:event772@Online-Magazin SCHNAPPEN.AT: die interessanten Seiten des Lebe
 ns
DTSTAMP:20260425T121237Z
CATEGORIES:Veranstaltungen
DESCRIPTION:Wiener Eistraum\nKategorie: Veranstaltungen\nICS-Link: https://
 www.schnappen.at/oesterreich/index.php?option=com_jem&view=event&id=772:wi
 ener-eistraum\n
DTSTART;VALUE=DATE:20270121
DTEND;VALUE=DATE:20270308
LOCATION:Wien Rathaus\,Rathausplatz 1\,1010 Wien
SUMMARY:Wiener Eistraum
URL:https://www.schnappen.at/oesterreich/index.php?option=com_jem&view=even
 t&id=772:wiener-eistraum
END:VEVENT
END:VCALENDAR