BEGIN:VCALENDAR
VERSION:2.0
PRODID:-//81.88.36.52//NONSGML kigkonsult.se iCalcreator 2.20//
CALSCALE:GREGORIAN
METHOD:PUBLISH
X-WR-TIMEZONE:Europe/Vienna
BEGIN:VEVENT
UID:event973@Online-Magazin SCHNAPPEN.AT: die interessanten Seiten des Lebe
 ns
DTSTAMP:20260424T094451Z
CATEGORIES:Termine noch offen
DESCRIPTION:Peter Legat aka 'The Count'\nKategorie: Termine noch offen\nICS
 -Link: https://www.schnappen.at/oesterreich/index.php?option=com_jem&view=
 event&id=973:peter-legat\n
DTSTART;TZID=Europe/Vienna:20180524T203000
DTEND;TZID=Europe/Vienna:20180525T203000
LOCATION:Porgy & Bess\,Riemergasse 11\,1010 Wien
SUMMARY:Peter Legat aka 'The Count'
URL:https://www.schnappen.at/oesterreich/index.php?option=com_jem&view=even
 t&id=973:peter-legat
END:VEVENT
END:VCALENDAR