BEGIN:VCALENDAR
VERSION:2.0
PRODID:-//81.88.36.52//NONSGML kigkonsult.se iCalcreator 2.20//
CALSCALE:GREGORIAN
METHOD:PUBLISH
X-WR-TIMEZONE:Europe/Vienna
BEGIN:VEVENT
UID:event1303@Online-Magazin SCHNAPPEN.AT: die interessanten Seiten des Leb
 ens
DTSTAMP:20260425T120932Z
CATEGORIES:Termine noch offen
DESCRIPTION:Buschenschank\, Heuriger Kern\, Rechnitz\nKategorie: Termine no
 ch offen\nICS-Link: https://www.schnappen.at/oesterreich/index.php?option=
 com_jem&view=event&id=1303:heuriger-rechnitz\n
DTSTART;VALUE=DATE:20260904
DTEND;VALUE=DATE:20260908
LOCATION:Rechnitz im Burgenland\,Kirchenplatz\,7471 Rechnitz
SUMMARY:Buschenschank\, Heuriger Kern\, Rechnitz
URL:https://www.schnappen.at/oesterreich/index.php?option=com_jem&view=even
 t&id=1303:heuriger-rechnitz
END:VEVENT
END:VCALENDAR