BEGIN:VCALENDAR
VERSION:2.0
PRODID:-//81.88.36.52//NONSGML kigkonsult.se iCalcreator 2.20//
CALSCALE:GREGORIAN
METHOD:PUBLISH
X-WR-TIMEZONE:Europe/Vienna
BEGIN:VEVENT
UID:event1439@Online-Magazin SCHNAPPEN.AT: die interessanten Seiten des Leb
 ens
DTSTAMP:20260425T125536Z
CATEGORIES:Veranstaltungen
DESCRIPTION:Insieme - La Notte Italiana\, die italienische Schlagernacht in
  Österreich und der Schweiz\nKategorie: Veranstaltungen\nICS-Link: https:/
 /www.schnappen.at/oesterreich/index.php?option=com_jem&view=event&id=1439:
 italienische-schlagernacht\n
DTSTART;VALUE=DATE:20260729
DTEND;VALUE=DATE:20260730
LOCATION:Grafenegg Wolkenturm\,Grafenegg 10\,3485  Grafenegg
SUMMARY:Insieme - La Notte Italiana\, die italienische Schlagernacht in Öst
 erreich und der Schweiz
URL:https://www.schnappen.at/oesterreich/index.php?option=com_jem&view=even
 t&id=1439:italienische-schlagernacht
END:VEVENT
END:VCALENDAR