BEGIN:VCALENDAR
VERSION:2.0
PRODID:-//81.88.36.52//NONSGML kigkonsult.se iCalcreator 2.20//
CALSCALE:GREGORIAN
METHOD:PUBLISH
X-WR-TIMEZONE:Europe/Vienna
BEGIN:VEVENT
UID:event1857@Online-Magazin SCHNAPPEN.AT: die interessanten Seiten des Leb
 ens
DTSTAMP:20260425T120933Z
CATEGORIES:Heurigentermine
DESCRIPTION:Heuriger Winzerhof Kanitz\, Rechnitz\nKategorie: Heurigentermin
 e\nICS-Link: https://www.schnappen.at/oesterreich/index.php?option=com_jem
 &view=event&id=1857:winzerhof-kanitz\n
DTSTART;VALUE=DATE:20260513
DTEND;VALUE=DATE:20260518
LOCATION:Rechnitz im Burgenland\,Kirchenplatz\,7471 Rechnitz
SUMMARY:Heuriger Winzerhof Kanitz\, Rechnitz
URL:https://www.schnappen.at/oesterreich/index.php?option=com_jem&view=even
 t&id=1857:winzerhof-kanitz
END:VEVENT
END:VCALENDAR