BEGIN:VCALENDAR
VERSION:2.0
PRODID:-//81.88.36.52//NONSGML kigkonsult.se iCalcreator 2.20//
CALSCALE:GREGORIAN
METHOD:PUBLISH
X-WR-TIMEZONE:Europe/Vienna
BEGIN:VEVENT
UID:event681@Online-Magazin SCHNAPPEN.AT: die interessanten Seiten des Lebe
 ns
DTSTAMP:20260424T095229Z
CATEGORIES:Veranstaltungen\, Wir berichten über...
DESCRIPTION:Wiesen 2026: Festivals\, Konzerte & Events 2026\nKategorie: Ver
 anstaltungen\, Wir berichten über...\nICS-Link: https://www.schnappen.at/o
 esterreich/index.php?option=com_jem&view=event&id=681:jazz-wiesen\n
DTSTART;VALUE=DATE:20260613
DTEND;VALUE=DATE:20260614
LOCATION:Wiesen Festivalgelände\,Schöllingstraße\,7203 Wiesen
SUMMARY:Wiesen 2026: Festivals\, Konzerte & Events 2026
URL:https://www.schnappen.at/oesterreich/index.php?option=com_jem&view=even
 t&id=681:jazz-wiesen
END:VEVENT
END:VCALENDAR