BEGIN:VCALENDAR
VERSION:2.0
PRODID:-//81.88.36.52//NONSGML kigkonsult.se iCalcreator 2.20//
CALSCALE:GREGORIAN
METHOD:PUBLISH
X-WR-TIMEZONE:Europe/Vienna
BEGIN:VEVENT
UID:event131@Online-Magazin SCHNAPPEN.AT: die interessanten Seiten des Lebe
 ns
DTSTAMP:20260425T105153Z
CATEGORIES:Veranstaltungen
DESCRIPTION:Benedikt Mitmannsgruber\, Kabarett\nKategorie: Veranstaltungen
 \nICS-Link: https://www.schnappen.at/oesterreich/index.php?option=com_jem&
 view=event&id=131:mitmannsgruber\n
DTSTART;VALUE=DATE:20260508
DTEND;VALUE=DATE:20260509
LOCATION:Kulisse Wien\,Rosensteingasse 39\,1170 Wien
SUMMARY:Benedikt Mitmannsgruber\, Kabarett
URL:https://www.schnappen.at/oesterreich/index.php?option=com_jem&view=even
 t&id=131:mitmannsgruber
END:VEVENT
END:VCALENDAR