BEGIN:VCALENDAR
VERSION:2.0
PRODID:-//81.88.36.52//NONSGML kigkonsult.se iCalcreator 2.20//
CALSCALE:GREGORIAN
METHOD:PUBLISH
X-WR-TIMEZONE:Europe/Vienna
BEGIN:VEVENT
UID:event1346@Online-Magazin SCHNAPPEN.AT: die interessanten Seiten des Leb
 ens
DTSTAMP:20260424T124654Z
CATEGORIES:Veranstaltungen
DESCRIPTION:Theaterfestival HIN & WEG 2026 in Litschau\nKategorie: Veransta
 ltungen\nICS-Link: https://www.schnappen.at/oesterreich/index.php?option=c
 om_jem&view=event&id=1346:theaterfestival\n
DTSTART;VALUE=DATE:20260807
DTEND;VALUE=DATE:20260817
LOCATION:Litschau\,Herrensee\,3874 Litschau
SUMMARY:Theaterfestival HIN & WEG 2026 in Litschau
URL:https://www.schnappen.at/oesterreich/index.php?option=com_jem&view=even
 t&id=1346:theaterfestival
END:VEVENT
END:VCALENDAR