BEGIN:VCALENDAR
VERSION:2.0
PRODID:-//81.88.36.52//NONSGML kigkonsult.se iCalcreator 2.20//
CALSCALE:GREGORIAN
METHOD:PUBLISH
X-WR-TIMEZONE:Europe/Vienna
BEGIN:VEVENT
UID:event1417@Online-Magazin SCHNAPPEN.AT: die interessanten Seiten des Leb
 ens
DTSTAMP:20260424T082452Z
CATEGORIES:Termine noch offen
DESCRIPTION:Fesch'Markt\, Feschmarkt in Österreich\nKategorie: Termine noch
  offen\nICS-Link: https://www.schnappen.at/oesterreich/index.php?option=co
 m_jem&view=event&id=1417:feschmarkt\n
DTSTART;VALUE=DATE:20231215
DTEND;VALUE=DATE:20231218
SUMMARY:Fesch'Markt\, Feschmarkt in Österreich
URL:https://www.schnappen.at/oesterreich/index.php?option=com_jem&view=even
 t&id=1417:feschmarkt
END:VEVENT
END:VCALENDAR