BEGIN:VCALENDAR
VERSION:2.0
PRODID:-//81.88.36.52//NONSGML kigkonsult.se iCalcreator 2.20//
CALSCALE:GREGORIAN
METHOD:PUBLISH
X-WR-TIMEZONE:Europe/Vienna
BEGIN:VEVENT
UID:event1596@Online-Magazin SCHNAPPEN.AT: die interessanten Seiten des Leb
 ens
DTSTAMP:20260424T125854Z
CATEGORIES:Ballkalender & Balltermine
DESCRIPTION:Seniorenball \nKategorie: Ballkalender & Balltermine\nICS-Link:
  https://www.schnappen.at/oesterreich/index.php?option=com_jem&view=event&
 id=1596:seniorenball\n
DTSTART;VALUE=DATE:20270113
DTEND;VALUE=DATE:20270114
LOCATION:VAZ St. Pölten\,Kelsengasse 1\,3100 St. Pölten
SUMMARY:Seniorenball 
URL:https://www.schnappen.at/oesterreich/index.php?option=com_jem&view=even
 t&id=1596:seniorenball
END:VEVENT
END:VCALENDAR