BEGIN:VCALENDAR
VERSION:2.0
PRODID:-//81.88.36.52//NONSGML kigkonsult.se iCalcreator 2.20//
CALSCALE:GREGORIAN
METHOD:PUBLISH
X-WR-TIMEZONE:Europe/Vienna
BEGIN:VEVENT
UID:event1732@Online-Magazin SCHNAPPEN.AT: die interessanten Seiten des Leb
 ens
DTSTAMP:20260425T201333Z
CATEGORIES:Termine noch offen
DESCRIPTION:Violette Redoute\nKategorie: Termine noch offen\nICS-Link: http
 s://www.schnappen.at/oesterreich/index.php?option=com_jem&view=event&id=17
 32:redoute-wien\n
DTSTART;VALUE=DATE:20270108
DTEND;VALUE=DATE:20270109
LOCATION:Palais Ferstel\,Freyung 2\,1010 Wien
SUMMARY:Violette Redoute
URL:https://www.schnappen.at/oesterreich/index.php?option=com_jem&view=even
 t&id=1732:redoute-wien
END:VEVENT
END:VCALENDAR