BEGIN:VCALENDAR
VERSION:2.0
PRODID:-//81.88.36.52//NONSGML kigkonsult.se iCalcreator 2.20//
CALSCALE:GREGORIAN
METHOD:PUBLISH
X-WR-TIMEZONE:Europe/Vienna
BEGIN:VEVENT
UID:event1902@Online-Magazin SCHNAPPEN.AT: die interessanten Seiten des Leb
 ens
DTSTAMP:20260425T192746Z
CATEGORIES:Ballkalender & Balltermine
DESCRIPTION:Ball der Technik\nKategorie: Ballkalender & Balltermine\nICS-Li
 nk: https://www.schnappen.at/oesterreich/index.php?option=com_jem&view=eve
 nt&id=1902:ball-technik\n
DTSTART;VALUE=DATE:20270129
DTEND;VALUE=DATE:20270130
LOCATION:Grazer Congress\,Albrechtgasse 1\,8010  Graz
SUMMARY:Ball der Technik
URL:https://www.schnappen.at/oesterreich/index.php?option=com_jem&view=even
 t&id=1902:ball-technik
END:VEVENT
END:VCALENDAR