BEGIN:VCALENDAR
VERSION:2.0
PRODID:-//81.88.36.52//NONSGML kigkonsult.se iCalcreator 2.20//
CALSCALE:GREGORIAN
METHOD:PUBLISH
X-WR-TIMEZONE:Europe/Vienna
BEGIN:VEVENT
UID:event1935@Online-Magazin SCHNAPPEN.AT: die interessanten Seiten des Leb
 ens
DTSTAMP:20260424T104615Z
CATEGORIES:Termine noch offen
DESCRIPTION:Kaffeehausdisco\, die Vintage Band \nKategorie: Termine noch of
 fen\nICS-Link: https://www.schnappen.at/oesterreich/index.php?option=com_j
 em&view=event&id=1935:kaffeehaus-disco\n
DTSTART;VALUE=DATE:20240426
DTEND;VALUE=DATE:20240427
SUMMARY:Kaffeehausdisco\, die Vintage Band 
URL:https://www.schnappen.at/oesterreich/index.php?option=com_jem&view=even
 t&id=1935:kaffeehaus-disco
END:VEVENT
END:VCALENDAR