BEGIN:VCALENDAR
VERSION:2.0
PRODID:-//81.88.36.52//NONSGML kigkonsult.se iCalcreator 2.20//
CALSCALE:GREGORIAN
METHOD:PUBLISH
X-WR-TIMEZONE:Europe/Vienna
BEGIN:VEVENT
UID:event200@Online-Magazin SCHNAPPEN.AT: die interessanten Seiten des Lebe
 ns
DTSTAMP:20260424T095936Z
CATEGORIES:Veranstaltungen
DESCRIPTION:20. Schrammelklang-Festival 2026\nKategorie: Veranstaltungen\nI
 CS-Link: https://www.schnappen.at/oesterreich/index.php?option=com_jem&vie
 w=event&id=200:schrammelklang\n
DTSTART;VALUE=DATE:20260710
DTEND;VALUE=DATE:20260720
LOCATION:Litschau\,Herrensee\,3874 Litschau
SUMMARY:20. Schrammelklang-Festival 2026
URL:https://www.schnappen.at/oesterreich/index.php?option=com_jem&view=even
 t&id=200:schrammelklang
END:VEVENT
END:VCALENDAR