BEGIN:VCALENDAR
VERSION:2.0
PRODID:-//81.88.36.52//NONSGML kigkonsult.se iCalcreator 2.20//
CALSCALE:GREGORIAN
METHOD:PUBLISH
X-WR-TIMEZONE:Europe/Vienna
BEGIN:VEVENT
UID:event2036@Online-Magazin SCHNAPPEN.AT: die interessanten Seiten des Leb
 ens
DTSTAMP:20260424T150643Z
CATEGORIES:Veranstaltungen
DESCRIPTION:Michael Großschädl\, Musikkabarettist \nKategorie: Veranstaltun
 gen\nICS-Link: https://www.schnappen.at/oesterreich/index.php?option=com_j
 em&view=event&id=2036:grossschaedl\n
DTSTART;VALUE=DATE:20260620
DTEND;VALUE=DATE:20260621
SUMMARY:Michael Großschädl\, Musikkabarettist 
URL:https://www.schnappen.at/oesterreich/index.php?option=com_jem&view=even
 t&id=2036:grossschaedl
END:VEVENT
END:VCALENDAR