BEGIN:VCALENDAR
VERSION:2.0
PRODID:-//81.88.36.52//NONSGML kigkonsult.se iCalcreator 2.20//
CALSCALE:GREGORIAN
METHOD:PUBLISH
X-WR-TIMEZONE:Europe/Vienna
BEGIN:VEVENT
UID:event2043@Online-Magazin SCHNAPPEN.AT: die interessanten Seiten des Leb
 ens
DTSTAMP:20260424T211345Z
CATEGORIES:Termine noch offen
DESCRIPTION:Alex Lovrek\, Kabarettist und Singer-Songwriter\nKategorie: Ter
 mine noch offen\nICS-Link: https://www.schnappen.at/oesterreich/index.php?
 option=com_jem&view=event&id=2043:kabarettist-alex-lovrek\n
DTSTART;VALUE=DATE:20240618
DTEND;VALUE=DATE:20240619
LOCATION:CasaNova in Wien\,Dorotheergasse 6-8\,1010 Wien
SUMMARY:Alex Lovrek\, Kabarettist und Singer-Songwriter
URL:https://www.schnappen.at/oesterreich/index.php?option=com_jem&view=even
 t&id=2043:kabarettist-alex-lovrek
END:VEVENT
END:VCALENDAR