BEGIN:VCALENDAR
VERSION:2.0
PRODID:-//81.88.36.52//NONSGML kigkonsult.se iCalcreator 2.20//
CALSCALE:GREGORIAN
METHOD:PUBLISH
X-WR-TIMEZONE:Europe/Vienna
BEGIN:VEVENT
UID:event2079@Online-Magazin SCHNAPPEN.AT: die interessanten Seiten des Leb
 ens
DTSTAMP:20260425T134026Z
CATEGORIES:Veranstaltungen
DESCRIPTION:Stand Up Comedian Ina Jovanovic\nKategorie: Veranstaltungen\nIC
 S-Link: https://www.schnappen.at/oesterreich/index.php?option=com_jem&view
 =event&id=2079:jovanovic\n
DTSTART;VALUE=DATE:20260928
DTEND;VALUE=DATE:20260929
LOCATION:Kulisse Wien\,Rosensteingasse 39\,1170 Wien
SUMMARY:Stand Up Comedian Ina Jovanovic
URL:https://www.schnappen.at/oesterreich/index.php?option=com_jem&view=even
 t&id=2079:jovanovic
END:VEVENT
END:VCALENDAR