BEGIN:VCALENDAR
VERSION:2.0
PRODID:-//81.88.36.52//NONSGML kigkonsult.se iCalcreator 2.20//
CALSCALE:GREGORIAN
METHOD:PUBLISH
X-WR-TIMEZONE:Europe/Vienna
BEGIN:VEVENT
UID:event219@Online-Magazin SCHNAPPEN.AT: die interessanten Seiten des Lebe
 ns
DTSTAMP:20260425T150424Z
CATEGORIES:Veranstaltungen
DESCRIPTION:Poolbar Festival Feldkirch\, Vbg\nKategorie: Veranstaltungen\nI
 CS-Link: https://www.schnappen.at/oesterreich/index.php?option=com_jem&vie
 w=event&id=219:poolbar\n
DTSTART;VALUE=DATE:20260708
DTEND;VALUE=DATE:20260817
SUMMARY:Poolbar Festival Feldkirch\, Vbg
URL:https://www.schnappen.at/oesterreich/index.php?option=com_jem&view=even
 t&id=219:poolbar
END:VEVENT
END:VCALENDAR