BEGIN:VCALENDAR
VERSION:2.0
PRODID:-//81.88.36.52//NONSGML kigkonsult.se iCalcreator 2.20//
CALSCALE:GREGORIAN
METHOD:PUBLISH
X-WR-TIMEZONE:Europe/Vienna
BEGIN:VEVENT
UID:event248@Online-Magazin SCHNAPPEN.AT: die interessanten Seiten des Lebe
 ns
DTSTAMP:20260425T200706Z
CATEGORIES:Termine noch offen
DESCRIPTION:Ball der Alt Schotten 2027\nKategorie: Termine noch offen\nICS-
 Link: https://www.schnappen.at/oesterreich/index.php?option=com_jem&view=e
 vent&id=248:ball-alt-schotten\n
DTSTART;VALUE=DATE:20270109
DTEND;VALUE=DATE:20270110
LOCATION:Palais Ferstel\,Freyung 2\,1010 Wien
SUMMARY:Ball der Alt Schotten 2027
URL:https://www.schnappen.at/oesterreich/index.php?option=com_jem&view=even
 t&id=248:ball-alt-schotten
END:VEVENT
END:VCALENDAR