BEGIN:VCALENDAR
VERSION:2.0
PRODID:-//81.88.36.52//NONSGML kigkonsult.se iCalcreator 2.20//
CALSCALE:GREGORIAN
METHOD:PUBLISH
X-WR-TIMEZONE:Europe/Vienna
BEGIN:VEVENT
UID:event253@Online-Magazin SCHNAPPEN.AT: die interessanten Seiten des Lebe
 ns
DTSTAMP:20260425T152420Z
CATEGORIES:Termine noch offen
DESCRIPTION:Bonbonball 2023\nKategorie: Termine noch offen\nICS-Link: https
 ://www.schnappen.at/oesterreich/index.php?option=com_jem&view=event&id=253
 :bonbonball\n
DTSTART;VALUE=DATE:20200221
DTEND;VALUE=DATE:20200222
LOCATION:Konzerthaus Wien\,Lothringer Str. 20\,1030 Wien
SUMMARY:Bonbonball 2023
URL:https://www.schnappen.at/oesterreich/index.php?option=com_jem&view=even
 t&id=253:bonbonball
END:VEVENT
END:VCALENDAR