BEGIN:VCALENDAR
VERSION:2.0
PRODID:-//81.88.36.52//NONSGML kigkonsult.se iCalcreator 2.20//
CALSCALE:GREGORIAN
METHOD:PUBLISH
X-WR-TIMEZONE:Europe/Vienna
BEGIN:VEVENT
UID:event311@Online-Magazin SCHNAPPEN.AT: die interessanten Seiten des Lebe
 ns
DTSTAMP:20260424T152934Z
CATEGORIES:Termine noch offen
DESCRIPTION:Christmas in Vienna im Konzerthaus\nKategorie: Termine noch off
 en\nICS-Link: https://www.schnappen.at/oesterreich/index.php?option=com_je
 m&view=event&id=311:christmas-vienna\n
DTSTART;TZID=Europe/Vienna:20251219T193000
DTEND;TZID=Europe/Vienna:20251220T193000
LOCATION:Konzerthaus Wien\,Lothringer Str. 20\,1030 Wien
SUMMARY:Christmas in Vienna im Konzerthaus
URL:https://www.schnappen.at/oesterreich/index.php?option=com_jem&view=even
 t&id=311:christmas-vienna
END:VEVENT
END:VCALENDAR