BEGIN:VCALENDAR
VERSION:2.0
PRODID:-//81.88.36.52//NONSGML kigkonsult.se iCalcreator 2.20//
CALSCALE:GREGORIAN
METHOD:PUBLISH
X-WR-TIMEZONE:Europe/Vienna
BEGIN:VEVENT
UID:event511@Online-Magazin SCHNAPPEN.AT: die interessanten Seiten des Lebe
 ns
DTSTAMP:20260424T182340Z
CATEGORIES:Veranstaltungen
DESCRIPTION:Puschnig\, Shilkloper\, Sass\nKategorie: Veranstaltungen\nICS-L
 ink: https://www.schnappen.at/oesterreich/index.php?option=com_jem&view=ev
 ent&id=511:puschnig-wolfgang\n
DTSTART;VALUE=DATE:20260619
DTEND;VALUE=DATE:20260620
LOCATION:Konzerthaus Wien\,Lothringer Str. 20\,1030 Wien
SUMMARY:Puschnig\, Shilkloper\, Sass
URL:https://www.schnappen.at/oesterreich/index.php?option=com_jem&view=even
 t&id=511:puschnig-wolfgang
END:VEVENT
END:VCALENDAR