BEGIN:VCALENDAR
VERSION:2.0
PRODID:-//81.88.36.52//NONSGML kigkonsult.se iCalcreator 2.20//
CALSCALE:GREGORIAN
METHOD:PUBLISH
X-WR-TIMEZONE:Europe/Vienna
BEGIN:VEVENT
UID:event614@Online-Magazin SCHNAPPEN.AT: die interessanten Seiten des Lebe
 ns
DTSTAMP:20260424T184215Z
CATEGORIES:Termine noch offen
DESCRIPTION:Palazzo im Wiener Prater\nKategorie: Termine noch offen\nICS-Li
 nk: https://www.schnappen.at/oesterreich/index.php?option=com_jem&view=eve
 nt&id=614:palazzo\n
DTSTART;VALUE=DATE:20260321
DTEND;VALUE=DATE:20260322
SUMMARY:Palazzo im Wiener Prater
URL:https://www.schnappen.at/oesterreich/index.php?option=com_jem&view=even
 t&id=614:palazzo
END:VEVENT
END:VCALENDAR