BEGIN:VCALENDAR
VERSION:2.0
PRODID:-//81.88.36.52//NONSGML kigkonsult.se iCalcreator 2.20//
CALSCALE:GREGORIAN
METHOD:PUBLISH
X-WR-TIMEZONE:Europe/Vienna
BEGIN:VEVENT
UID:event742@Online-Magazin SCHNAPPEN.AT: die interessanten Seiten des Lebe
 ns
DTSTAMP:20260425T133613Z
CATEGORIES:Veranstaltungen
DESCRIPTION:Erika Pluhar\nKategorie: Veranstaltungen\nICS-Link: https://www
 .schnappen.at/oesterreich/index.php?option=com_jem&view=event&id=742:erika
 -pluhar\n
DTSTART;TZID=Europe/Vienna:20260426T190000
DTEND;TZID=Europe/Vienna:20260426T190000
LOCATION:Kulisse Wien\,Rosensteingasse 39\,1170 Wien
SUMMARY:Erika Pluhar
URL:https://www.schnappen.at/oesterreich/index.php?option=com_jem&view=even
 t&id=742:erika-pluhar
END:VEVENT
END:VCALENDAR