BEGIN:VCALENDAR
VERSION:2.0
PRODID:-//81.88.36.52//NONSGML kigkonsult.se iCalcreator 2.20//
CALSCALE:GREGORIAN
METHOD:PUBLISH
X-WR-TIMEZONE:Europe/Vienna
BEGIN:VEVENT
UID:event812@Online-Magazin SCHNAPPEN.AT: die interessanten Seiten des Lebe
 ns
DTSTAMP:20260425T170013Z
CATEGORIES:Ballkalender & Balltermine
DESCRIPTION:Tuntenball 2027 in Graz\nKategorie: Ballkalender & Balltermine
 \nICS-Link: https://www.schnappen.at/oesterreich/index.php?option=com_jem&
 view=event&id=812:tuntenball\n
DTSTART;VALUE=DATE:20270220
DTEND;VALUE=DATE:20270221
LOCATION:Grazer Congress\,Albrechtgasse 1\,8010  Graz
SUMMARY:Tuntenball 2027 in Graz
URL:https://www.schnappen.at/oesterreich/index.php?option=com_jem&view=even
 t&id=812:tuntenball
END:VEVENT
END:VCALENDAR