BEGIN:VCALENDAR
VERSION:2.0
PRODID:-//81.88.36.52//NONSGML kigkonsult.se iCalcreator 2.20//
CALSCALE:GREGORIAN
METHOD:PUBLISH
X-WR-TIMEZONE:Europe/Vienna
BEGIN:VEVENT
UID:event929@Online-Magazin SCHNAPPEN.AT: die interessanten Seiten des Lebe
 ns
DTSTAMP:20260424T082856Z
CATEGORIES:Veranstaltungen
DESCRIPTION:Genuss Festival \, das Genussfestival im Stadtpark Wien\nKatego
 rie: Veranstaltungen\nICS-Link: https://www.schnappen.at/oesterreich/index
 .php?option=com_jem&view=event&id=929:genuss-festival\n
DTSTART;TZID=Europe/Vienna:20260508T110000
DTEND;TZID=Europe/Vienna:20260510T210000
LOCATION:Stadtpark Wien\,Parkring 1\,1010 Wien
SUMMARY:Genuss Festival \, das Genussfestival im Stadtpark Wien
URL:https://www.schnappen.at/oesterreich/index.php?option=com_jem&view=even
 t&id=929:genuss-festival
END:VEVENT
END:VCALENDAR