BEGIN:VCALENDAR
VERSION:2.0
PRODID:-//81.88.36.52//NONSGML kigkonsult.se iCalcreator 2.20//
CALSCALE:GREGORIAN
METHOD:PUBLISH
X-WR-TIMEZONE:Europe/Vienna
BEGIN:VEVENT
UID:event952@Online-Magazin SCHNAPPEN.AT: die interessanten Seiten des Lebe
 ns
DTSTAMP:20260424T165055Z
CATEGORIES:Termine noch offen
DESCRIPTION:Internationales Storytelling Festival 2025 & Lange Nacht der Ge
 schichten\nKategorie: Termine noch offen\nICS-Link: https://www.schnappen.
 at/oesterreich/index.php?option=com_jem&view=event&id=952:fabelhaft-geschi
 chten\n
DTSTART;VALUE=DATE:20251107
DTEND;VALUE=DATE:20251108
SUMMARY:Internationales Storytelling Festival 2025 & Lange Nacht der Geschi
 chten
URL:https://www.schnappen.at/oesterreich/index.php?option=com_jem&view=even
 t&id=952:fabelhaft-geschichten
END:VEVENT
END:VCALENDAR