BEGIN:VCALENDAR
VERSION:2.0
PRODID:-//81.88.36.52//NONSGML kigkonsult.se iCalcreator 2.20//
CALSCALE:GREGORIAN
METHOD:PUBLISH
X-WR-TIMEZONE:Europe/Vienna
BEGIN:VEVENT
UID:event961@Online-Magazin SCHNAPPEN.AT: die interessanten Seiten des Lebe
 ns
DTSTAMP:20260424T125727Z
CATEGORIES:Veranstaltungen
DESCRIPTION:Elvis - Das Musical\nKategorie: Veranstaltungen\nICS-Link: http
 s://www.schnappen.at/oesterreich/index.php?option=com_jem&view=event&id=96
 1:elvis\n
DTSTART;VALUE=DATE:20261126
DTEND;VALUE=DATE:20261127
LOCATION:VAZ St. Pölten\,Kelsengasse 1\,3100 St. Pölten
SUMMARY:Elvis - Das Musical
URL:https://www.schnappen.at/oesterreich/index.php?option=com_jem&view=even
 t&id=961:elvis
END:VEVENT
END:VCALENDAR